BEGIN:VCALENDAR
VERSION:2.0
PRODID:spatie/icalendar-generator
NAME:Rencontre sectorielle Holz chez alpnach norm – fabrication sur mesur
 e au cœur de la Suisse [Netzwerk Holz]
X-WR-CALNAME:Rencontre sectorielle Holz chez alpnach norm – fabrication s
 ur mesure au cœur de la Suisse [Netzwerk Holz]
BEGIN:VTIMEZONE
TZID:Europe/Zurich
BEGIN:STANDARD
DTSTART:20251026T030000
TZOFFSETFROM:+0200
TZOFFSETTO:+0100
END:STANDARD
BEGIN:DAYLIGHT
DTSTART:20260329T020000
TZOFFSETFROM:+0100
TZOFFSETTO:+0200
END:DAYLIGHT
BEGIN:STANDARD
DTSTART:20261025T030000
TZOFFSETFROM:+0200
TZOFFSETTO:+0100
END:STANDARD
END:VTIMEZONE
BEGIN:VTIMEZONE
TZID:UTC
BEGIN:STANDARD
DTSTART:20250724T081449
TZOFFSETFROM:+0000
TZOFFSETTO:+0000
END:STANDARD
END:VTIMEZONE
BEGIN:VEVENT
UID:69e5e079ea209
DTSTAMP:20260420T081449Z
DTSTART;TZID=Europe/Zurich:20260611T153000
DTEND;TZID=Europe/Zurich:20260611T190000
SUMMARY:Rencontre sectorielle Holz chez alpnach norm – fabrication sur me
 sure au cœur de la Suisse [Netzwerk Holz]
DESCRIPTION:https://www.holz.ch/fr/e/rencontre-sectorielle-holz-chez-alpnac
 h-norm-fabrication-sur-mesure-au-c-ur-de-la-suisse.76357\n\nLe 11 juin\, A
 lpnach Norm vous invite à la prochaine Rencontre sectorielle Holz. Décou
 vrez\, lors d’une visite et d’un exposé\, comment la Lean Production\
 , la qualité et la flexibilité définissent la fabrication sur mesure d'
 espaces de rangements chez Alpnach Schränke AG. dans le canton d'Obwald.
LOCATION:Alpnach Schränke AG\, Hofmättelistrasse 2a\, 6055 Alpnach Dorf
END:VEVENT
END:VCALENDAR